BEGIN:VCALENDAR
VERSION:2.0
PRODID:-//The Grand Oaks Resort - ECPv6.15.17.1//NONSGML v1.0//EN
CALSCALE:GREGORIAN
METHOD:PUBLISH
X-ORIGINAL-URL:https://thegrandoaks.com
X-WR-CALDESC:Events for The Grand Oaks Resort
REFRESH-INTERVAL;VALUE=DURATION:PT1H
X-Robots-Tag:noindex
X-PUBLISHED-TTL:PT1H
BEGIN:VTIMEZONE
TZID:America/New_York
BEGIN:DAYLIGHT
TZOFFSETFROM:-0500
TZOFFSETTO:-0400
TZNAME:EDT
DTSTART:20250309T070000
END:DAYLIGHT
BEGIN:STANDARD
TZOFFSETFROM:-0400
TZOFFSETTO:-0500
TZNAME:EST
DTSTART:20251102T060000
END:STANDARD
BEGIN:DAYLIGHT
TZOFFSETFROM:-0500
TZOFFSETTO:-0400
TZNAME:EDT
DTSTART:20260308T070000
END:DAYLIGHT
BEGIN:STANDARD
TZOFFSETFROM:-0400
TZOFFSETTO:-0500
TZNAME:EST
DTSTART:20261101T060000
END:STANDARD
BEGIN:DAYLIGHT
TZOFFSETFROM:-0500
TZOFFSETTO:-0400
TZNAME:EDT
DTSTART:20270314T070000
END:DAYLIGHT
BEGIN:STANDARD
TZOFFSETFROM:-0400
TZOFFSETTO:-0500
TZNAME:EST
DTSTART:20271107T060000
END:STANDARD
END:VTIMEZONE
BEGIN:VEVENT
DTSTART;VALUE=DATE:20261004
DTEND;VALUE=DATE:20261006
DTSTAMP:20260425T180151
CREATED:20260424T182050Z
LAST-MODIFIED:20260424T182057Z
UID:10000303-1791072000-1791244799@thegrandoaks.com
SUMMARY:USA Gun Shows of Florida\, October 4 & 5\, 2026
DESCRIPTION:RSVP\n\n\n\n\n\n\nUSA Gun Shows of Florida\nWeirsdale Gun Show\n\nBUY • SELL • TRADE\n\nCash Accepted\, Weapons\, Ammo\, Body Armor\, Knives\, Gold\, Silver and more! \nAdmission $10.00; children 14 and under are FREE. \n\n\n\nTime Oct 04\, 2025\, 9:00 AM – Oct 05\, 2025\, 3:00 PM \n\n\n\nLocation Grand Oaks Resort\, 3000 Marion County Rd\, Weirsdale\, FL 32195\,
URL:https://thegrandoaks.com/event/usa-gun-shows-of-florida-october-4-5-2026/
LOCATION:Grand Oaks Resort\, 3000 Marion County Road\, Weirsdale\, FL\, 32195\, United States
CATEGORIES:Ticketed
ATTACH;FMTTYPE=image/jpeg:https://thegrandoaks.com/wp-content/uploads/2026/04/Gun-Show-1-1.jpeg
ORGANIZER;CN="USA Gun show":MAILTO:USAGunShows.Dotty@gmail.com
END:VEVENT
END:VCALENDAR