BEGIN:VCALENDAR
VERSION:2.0
PRODID:-//The Grand Oaks Resort - ECPv6.15.17.1//NONSGML v1.0//EN
CALSCALE:GREGORIAN
METHOD:PUBLISH
X-ORIGINAL-URL:https://thegrandoaks.com
X-WR-CALDESC:Events for The Grand Oaks Resort
REFRESH-INTERVAL;VALUE=DURATION:PT1H
X-Robots-Tag:noindex
X-PUBLISHED-TTL:PT1H
BEGIN:VTIMEZONE
TZID:America/New_York
BEGIN:DAYLIGHT
TZOFFSETFROM:-0500
TZOFFSETTO:-0400
TZNAME:EDT
DTSTART:20250309T070000
END:DAYLIGHT
BEGIN:STANDARD
TZOFFSETFROM:-0400
TZOFFSETTO:-0500
TZNAME:EST
DTSTART:20251102T060000
END:STANDARD
BEGIN:DAYLIGHT
TZOFFSETFROM:-0500
TZOFFSETTO:-0400
TZNAME:EDT
DTSTART:20260308T070000
END:DAYLIGHT
BEGIN:STANDARD
TZOFFSETFROM:-0400
TZOFFSETTO:-0500
TZNAME:EST
DTSTART:20261101T060000
END:STANDARD
BEGIN:DAYLIGHT
TZOFFSETFROM:-0500
TZOFFSETTO:-0400
TZNAME:EDT
DTSTART:20270314T070000
END:DAYLIGHT
BEGIN:STANDARD
TZOFFSETFROM:-0400
TZOFFSETTO:-0500
TZNAME:EST
DTSTART:20271107T060000
END:STANDARD
END:VTIMEZONE
BEGIN:VEVENT
DTSTART;TZID=America/New_York:20260502T160000
DTEND;TZID=America/New_York:20260502T200000
DTSTAMP:20260425T225240
CREATED:20260425T120653Z
LAST-MODIFIED:20260425T191010Z
UID:10000307-1777737600-1777752000@thegrandoaks.com
SUMMARY:Harbor Hills Ladies Charity Derby Day Party Saturday May 2\, 2026\, 4PM
DESCRIPTION:Harbor Hills Ladies Charity Derby Day Party Saturday May 2\, 2026\, 4PM \n\nIt’s a safe bet that you won’t want to miss our Kentucky Derby Party! There will be games\, including our ever popular live horse race\, Wheel of Winnings and wine toss. Derby day food and drinks will be served. Don’t miss the all new live auction packages\, and a live stream on 5 big screen TV’s of the famous Kentucky Derby Race.\n\n\nDress to impress! Time for you to bring out those Derby hats and fascinators\, wear your best Southern proper/derby-style clothing and make a statement! Get ready to enjoy a fun filled evening with friends and neighbors. Tickets go on sale in early spring watch for our flyers!\n\n\nFor tickets\, email: harborhillsladiescharity@gmail.com\nOr visit www.harborhillslc.com\n\n\nWhat we need: Enthusiastic hosts and hostesses to help decorate\, sell tickets\, run games and promote the event. Or just have fun with us at this memorable evening!
URL:https://thegrandoaks.com/event/harbor-hills-ladies-charity-derby-day-party-saturday-may-2-2026-4pm/
LOCATION:Grand Oaks Resort\, 3000 Marion County Road\, Weirsdale\, FL\, 32195\, United States
CATEGORIES:charitable,Ticketed
ATTACH;FMTTYPE=image/jpeg:https://thegrandoaks.com/wp-content/uploads/2026/04/679647951_1381428070680955_1130324073914492687_n.jpg
END:VEVENT
END:VCALENDAR