BEGIN:VCALENDAR
VERSION:2.0
PRODID:-//The Grand Oaks Resort - ECPv6.15.17.1//NONSGML v1.0//EN
CALSCALE:GREGORIAN
METHOD:PUBLISH
X-WR-CALNAME:The Grand Oaks Resort
X-ORIGINAL-URL:https://thegrandoaks.com
X-WR-CALDESC:Events for The Grand Oaks Resort
REFRESH-INTERVAL;VALUE=DURATION:PT1H
X-Robots-Tag:noindex
X-PUBLISHED-TTL:PT1H
BEGIN:VTIMEZONE
TZID:America/New_York
BEGIN:DAYLIGHT
TZOFFSETFROM:-0500
TZOFFSETTO:-0400
TZNAME:EDT
DTSTART:20250309T070000
END:DAYLIGHT
BEGIN:STANDARD
TZOFFSETFROM:-0400
TZOFFSETTO:-0500
TZNAME:EST
DTSTART:20251102T060000
END:STANDARD
BEGIN:DAYLIGHT
TZOFFSETFROM:-0500
TZOFFSETTO:-0400
TZNAME:EDT
DTSTART:20260308T070000
END:DAYLIGHT
BEGIN:STANDARD
TZOFFSETFROM:-0400
TZOFFSETTO:-0500
TZNAME:EST
DTSTART:20261101T060000
END:STANDARD
BEGIN:DAYLIGHT
TZOFFSETFROM:-0500
TZOFFSETTO:-0400
TZNAME:EDT
DTSTART:20270314T070000
END:DAYLIGHT
BEGIN:STANDARD
TZOFFSETFROM:-0400
TZOFFSETTO:-0500
TZNAME:EST
DTSTART:20271107T060000
END:STANDARD
END:VTIMEZONE
BEGIN:VEVENT
DTSTART;TZID=America/New_York:20260214T170000
DTEND;TZID=America/New_York:20260214T200000
DTSTAMP:20260420T093705
CREATED:20251009T100142Z
LAST-MODIFIED:20260127T183126Z
UID:10000107-1771088400-1771099200@thegrandoaks.com
SUMMARY:Let Your Love Flow Valentine Celebration with Stevie G Sat\, Feb 14\, 2026
DESCRIPTION:Let Your Love Flow Valentine Celebration with Stevie G\nSat\, Feb 14\, 2026 @ 5:00PM \nGrand Oaks Resort\, 3000 Marion County Rd.\, Weirsdale\, FL \n\n\nRenowned entertainer Stevie G sings classic love songs through the decades. \n\n$68 VIP (first two rows)\, $60 General Admission – Meal included. \n\nPurchase Tickets at Ticketor.com
URL:https://thegrandoaks.com/event/let-your-love-flow-valentine-celebration/
LOCATION:Grand Oaks Resort\, 3000 Marion County Road\, Weirsdale\, FL\, 32195\, United States
CATEGORIES:Entertainment,Ticketed
ATTACH;FMTTYPE=image/jpeg:https://thegrandoaks.com/wp-content/uploads/2025/10/619492658_1302744251882671_2100220711985257304_n.jpg
END:VEVENT
BEGIN:VEVENT
DTSTART;TZID=America/New_York:20260220T170000
DTEND;TZID=America/New_York:20260220T193000
DTSTAMP:20260420T093705
CREATED:20251210T110744Z
LAST-MODIFIED:20260102T210113Z
UID:10000028-1771606800-1771615800@thegrandoaks.com
SUMMARY:The Do-Over Diner\, February 20\, 21\, 27 & 28
DESCRIPTION:The Do-Over Diner is a heartwarming original play set in a small-town diner where lives collide\, secrets are revealed\, and second chances are served fresh daily. Funny\, emotional\, and deeply inspiring\, this story of hope\, love\, and redemption proves it’s never too late for a do-over. \n\n$68 VIP\, $60 General Admission (plus tax and fees). Dinner included. \nPurchase Tickets at Ticketor.com
URL:https://thegrandoaks.com/event/the-do-over-diner-musical-play-february-20-21-27-28/
LOCATION:Grand Oaks Resort\, 3000 Marion County Road\, Weirsdale\, FL\, 32195\, United States
CATEGORIES:Entertainment,Ticketed
ATTACH;FMTTYPE=image/webp:https://thegrandoaks.com/wp-content/uploads/2025/12/meta_eyJzcmNCdWNrZXQiOiJiemdsZmlsZXMifQ-24.webp
END:VEVENT
BEGIN:VEVENT
DTSTART;TZID=America/New_York:20260221T170000
DTEND;TZID=America/New_York:20260221T193000
DTSTAMP:20260420T093705
CREATED:20251210T110833Z
LAST-MODIFIED:20251218T174929Z
UID:10000029-1771693200-1771702200@thegrandoaks.com
SUMMARY:The Do-Over Diner\, February 20\, 21\, 27 & 28
DESCRIPTION:The Do-Over Diner is a heartwarming original play set in a small-town diner where lives collide\, secrets are revealed\, and second chances are served fresh daily. Funny\, emotional\, and deeply inspiring\, this story of hope\, love\, and redemption proves it’s never too late for a do-over. \n\n$68 VIP\, $60 General Admission (plus tax and fees). Dinner included. \nPurchase Tickets at Ticketor.com
URL:https://thegrandoaks.com/event/the-do-over-diner-musical-play-february-20-21-27-28-2/
LOCATION:Grand Oaks Resort\, 3000 Marion County Road\, Weirsdale\, FL\, 32195\, United States
CATEGORIES:Entertainment,Ticketed
ATTACH;FMTTYPE=image/webp:https://thegrandoaks.com/wp-content/uploads/2025/12/meta_eyJzcmNCdWNrZXQiOiJiemdsZmlsZXMifQ-24.webp
END:VEVENT
BEGIN:VEVENT
DTSTART;TZID=America/New_York:20260227T170000
DTEND;TZID=America/New_York:20260227T193000
DTSTAMP:20260420T093705
CREATED:20251210T110905Z
LAST-MODIFIED:20260102T210241Z
UID:10000030-1772211600-1772220600@thegrandoaks.com
SUMMARY:The Do-Over Diner\, February 20\, 21\, 27 & 28
DESCRIPTION:The Do-Over Diner is a heartwarming original play set in a small-town diner where lives collide\, secrets are revealed\, and second chances are served fresh daily. Funny\, emotional\, and deeply inspiring\, this story of hope\, love\, and redemption proves it’s never too late for a do-over. \n\n$68 VIP\, $60 General Admission (plus tax and fees). Dinner included. \nPurchase Tickets at Ticketor.com
URL:https://thegrandoaks.com/event/the-do-over-diner-musical-play-february-20-21-27-28-3/
LOCATION:Grand Oaks Resort\, 3000 Marion County Road\, Weirsdale\, FL\, 32195\, United States
CATEGORIES:Entertainment,Ticketed
ATTACH;FMTTYPE=image/webp:https://thegrandoaks.com/wp-content/uploads/2025/12/meta_eyJzcmNCdWNrZXQiOiJiemdsZmlsZXMifQ-24.webp
END:VEVENT
BEGIN:VEVENT
DTSTART;TZID=America/New_York:20260228T170000
DTEND;TZID=America/New_York:20260228T193000
DTSTAMP:20260420T093705
CREATED:20251210T110936Z
LAST-MODIFIED:20260102T210213Z
UID:10000111-1772298000-1772307000@thegrandoaks.com
SUMMARY:The Do-Over Diner\, February 20\, 21\, 27 & 28
DESCRIPTION:The Do-Over Diner is a heartwarming original play set in a small-town diner where lives collide\, secrets are revealed\, and second chances are served fresh daily. Funny\, emotional\, and deeply inspiring\, this story of hope\, love\, and redemption proves it’s never too late for a do-over. \n\n$68 VIP\, $60 General Admission (plus tax and fees). Dinner included. \nPurchase Tickets at Ticketor.com
URL:https://thegrandoaks.com/event/the-do-over-diner-musical-play-february-20-21-27-28-4/
LOCATION:Grand Oaks Resort\, 3000 Marion County Road\, Weirsdale\, FL\, 32195\, United States
CATEGORIES:Entertainment,Ticketed
ATTACH;FMTTYPE=image/webp:https://thegrandoaks.com/wp-content/uploads/2025/12/meta_eyJzcmNCdWNrZXQiOiJiemdsZmlsZXMifQ-24.webp
END:VEVENT
END:VCALENDAR