BEGIN:VCALENDAR
VERSION:2.0
PRODID:-//The Grand Oaks Resort - ECPv6.15.17.1//NONSGML v1.0//EN
CALSCALE:GREGORIAN
METHOD:PUBLISH
X-WR-CALNAME:The Grand Oaks Resort
X-ORIGINAL-URL:https://thegrandoaks.com
X-WR-CALDESC:Events for The Grand Oaks Resort
REFRESH-INTERVAL;VALUE=DURATION:PT1H
X-Robots-Tag:noindex
X-PUBLISHED-TTL:PT1H
BEGIN:VTIMEZONE
TZID:America/New_York
BEGIN:DAYLIGHT
TZOFFSETFROM:-0500
TZOFFSETTO:-0400
TZNAME:EDT
DTSTART:20240310T070000
END:DAYLIGHT
BEGIN:STANDARD
TZOFFSETFROM:-0400
TZOFFSETTO:-0500
TZNAME:EST
DTSTART:20241103T060000
END:STANDARD
BEGIN:DAYLIGHT
TZOFFSETFROM:-0500
TZOFFSETTO:-0400
TZNAME:EDT
DTSTART:20250309T070000
END:DAYLIGHT
BEGIN:STANDARD
TZOFFSETFROM:-0400
TZOFFSETTO:-0500
TZNAME:EST
DTSTART:20251102T060000
END:STANDARD
BEGIN:DAYLIGHT
TZOFFSETFROM:-0500
TZOFFSETTO:-0400
TZNAME:EDT
DTSTART:20260308T070000
END:DAYLIGHT
BEGIN:STANDARD
TZOFFSETFROM:-0400
TZOFFSETTO:-0500
TZNAME:EST
DTSTART:20261101T060000
END:STANDARD
END:VTIMEZONE
BEGIN:VEVENT
DTSTART;VALUE=DATE:20250503
DTEND;VALUE=DATE:20250505
DTSTAMP:20260423T094507
CREATED:20240808T161226Z
LAST-MODIFIED:20250502T134416Z
UID:10000041-1746230400-1746403199@thegrandoaks.com
SUMMARY:HSITP/Hunt Country Hunter Jumper Horse Show at the Grand Oaks Resort\, May 3-4\, 2025
DESCRIPTION:HSITP/Hunt Country Hunter Jumper Horse Show at the Grand Oaks Resort\, May 3-4\, 2025 \nMore info to come
URL:https://thegrandoaks.com/event/hsitp-hunt-country-hunter-jumper-horse-show-at-the-grand-oaks-resort-may-3-4-2025/
LOCATION:Grand Oaks Resort\, 3000 Marion County Road\, Weirsdale\, FL\, 32195\, United States
CATEGORIES:Equestrian Competition
ATTACH;FMTTYPE=image/jpeg:https://thegrandoaks.com/wp-content/uploads/2024/08/HSITP-show-copy-1-3-scaled.jpeg
END:VEVENT
BEGIN:VEVENT
DTSTART;TZID=America/New_York:20250503T150000
DTEND;TZID=America/New_York:20250503T200000
DTSTAMP:20260423T094509
CREATED:20250419T145212Z
LAST-MODIFIED:20250419T145235Z
UID:10000083-1746284400-1746302400@thegrandoaks.com
SUMMARY:Kentucky Derby Day Harbor Hills Ladies Fundraiser\, Saturday\, May 3rd from 3–8 PM
DESCRIPTION:Kentucky Derby Day Fundraiser at Grand Oaks ResortJoin us on Saturday\, May 3rd from 3–8 PM for an afternoon of Derby Day fun hosted by the Harbor Hills Ladies Charity. Enjoy live race coverage\, games\, raffles\, and contests—including the Ladies Hat and Men’s Tie competitions. Savor a delicious spread of sliders\, pinwheel sandwiches\, fresh fruit\, veggies\, cheesecake bites\, and more. A cash bar will be available. \n🎟 Tickets: $50 per person (open to the public after April 18)📞 For tickets\, contact:Becky Hanner: (352) 391-0477Sue Hritz: (352) 630-9409Leslie Nisun: (810) 523-8000 \nAll proceeds benefit children and families in Lake County. \n \n 
URL:https://thegrandoaks.com/event/kentucky-derby-day-harbor-hills-ladies-fundraiser-saturday-may-3rd-from-3-8-pm/
LOCATION:Grand Oaks Resort\, 3000 Marion County Road\, Weirsdale\, FL\, 32195\, United States
CATEGORIES:charitable,Ticketed
ATTACH;FMTTYPE=image/jpeg:https://thegrandoaks.com/wp-content/uploads/2025/04/Kentucky-Derby-Flyer2025-scaled.jpg
END:VEVENT
BEGIN:VEVENT
DTSTART;VALUE=DATE:20250516
DTEND;VALUE=DATE:20250518
DTSTAMP:20260423T094509
CREATED:20240808T154620Z
LAST-MODIFIED:20250424T134210Z
UID:10000039-1747353600-1747526399@thegrandoaks.com
SUMMARY:Southern Drive at the Grand Oaks Resort\, May 16\, 17\, & 18\, 2025
DESCRIPTION:Southern Drive at the Grand Oaks Resort\, May 16 – 18\, 2025 \nRegistration & Info\n*times subject to change
URL:https://thegrandoaks.com/event/southern-drive-at-the-grand-oaks-resort-may-16-18-2025/
LOCATION:Grand Oaks Resort\, 3000 Marion County Road\, Weirsdale\, FL\, 32195\, United States
CATEGORIES:Winter Carriage Events
ATTACH;FMTTYPE=image/jpeg:https://thegrandoaks.com/wp-content/uploads/2024/08/Southern-Drive-May-2023-1-2.jpeg
END:VEVENT
BEGIN:VEVENT
DTSTART;TZID=America/New_York:20250522T180000
DTEND;TZID=America/New_York:20250522T203000
DTSTAMP:20260423T094509
CREATED:20250417T163846Z
LAST-MODIFIED:20250417T170349Z
UID:10000082-1747936800-1747945800@thegrandoaks.com
SUMMARY:Till Death Do Us Part Murder Mystery Dinner\, May 22 at 6pm
DESCRIPTION:Purchase Online\n\n\nTill Death Do Us Part\, Murder Mystery Dinner\, May 22 at 6pm.\nThree course dinners where YOU live the story\, interrogate the suspects and SOLVE the CRIME! More info to come. Get your tickets before they are all gone!\n\nor\n\nCall (941)250-5525 for tickets\n\nThe Bistro at Grand Oaks\n3000 Marion County Rd\nWeirsdale\, FL\nCall or text (941)250-5525 to reserve tickets early
URL:https://thegrandoaks.com/event/till-death-do-us-murder-mystery-dinner-may-22-at-6pm-2/
LOCATION:The Bistro\, 3000 Marion County Rd\, Weirsdale\, FL\, 32195\, United States
CATEGORIES:Bistro
ATTACH;FMTTYPE=image/jpeg:https://thegrandoaks.com/wp-content/uploads/2025/04/Murder-Mystery-1-2-scaled.jpeg
END:VEVENT
BEGIN:VEVENT
DTSTART;VALUE=DATE:20250524
DTEND;VALUE=DATE:20250526
DTSTAMP:20260423T094509
CREATED:20250305T011914Z
LAST-MODIFIED:20250424T133956Z
UID:10000061-1748044800-1748217599@thegrandoaks.com
SUMMARY:Orlando Dressage\, Dressage Under the Oaks\, May 24 & 25\, 2025
DESCRIPTION:May 24 & 25 – Dressage under the Oaks II
URL:https://thegrandoaks.com/event/orlando-dressage-dressage-under-the-oaks-may-24-25-2025/
LOCATION:Grand Oaks Resort\, 3000 Marion County Road\, Weirsdale\, FL\, 32195\, United States
CATEGORIES:competition
ATTACH;FMTTYPE=image/jpeg:https://thegrandoaks.com/wp-content/uploads/2025/03/Dressage-show-1-scaled.jpeg
END:VEVENT
END:VCALENDAR