BEGIN:VCALENDAR
VERSION:2.0
PRODID:-//The Grand Oaks Resort - ECPv6.15.17.1//NONSGML v1.0//EN
CALSCALE:GREGORIAN
METHOD:PUBLISH
X-WR-CALNAME:The Grand Oaks Resort
X-ORIGINAL-URL:https://thegrandoaks.com
X-WR-CALDESC:Events for The Grand Oaks Resort
REFRESH-INTERVAL;VALUE=DURATION:PT1H
X-Robots-Tag:noindex
X-PUBLISHED-TTL:PT1H
BEGIN:VTIMEZONE
TZID:America/New_York
BEGIN:DAYLIGHT
TZOFFSETFROM:-0500
TZOFFSETTO:-0400
TZNAME:EDT
DTSTART:20250309T070000
END:DAYLIGHT
BEGIN:STANDARD
TZOFFSETFROM:-0400
TZOFFSETTO:-0500
TZNAME:EST
DTSTART:20251102T060000
END:STANDARD
BEGIN:DAYLIGHT
TZOFFSETFROM:-0500
TZOFFSETTO:-0400
TZNAME:EDT
DTSTART:20260308T070000
END:DAYLIGHT
BEGIN:STANDARD
TZOFFSETFROM:-0400
TZOFFSETTO:-0500
TZNAME:EST
DTSTART:20261101T060000
END:STANDARD
BEGIN:DAYLIGHT
TZOFFSETFROM:-0500
TZOFFSETTO:-0400
TZNAME:EDT
DTSTART:20270314T070000
END:DAYLIGHT
BEGIN:STANDARD
TZOFFSETFROM:-0400
TZOFFSETTO:-0500
TZNAME:EST
DTSTART:20271107T060000
END:STANDARD
END:VTIMEZONE
BEGIN:VEVENT
DTSTART;VALUE=DATE:20260102
DTEND;VALUE=DATE:20260105
DTSTAMP:20260423T095957
CREATED:20250827T103351Z
LAST-MODIFIED:20251224T163542Z
UID:10000015-1767312000-1767571199@thegrandoaks.com
SUMMARY:Grand Oaks Short Format\, January 3-4\, 2026
DESCRIPTION:Grand Oaks Short Format\, January 3-4\, 2026 \nRegistration & Info
URL:https://thegrandoaks.com/event/grand-oaks-short-format-january-3-4-2026/
LOCATION:Grand Oaks Resort\, 3000 Marion County Road\, Weirsdale\, FL\, 32195\, United States
CATEGORIES:competition,Winter Carriage Events
ATTACH;FMTTYPE=image/jpeg:https://thegrandoaks.com/wp-content/uploads/2025/08/GO-short-format-4-7.jpeg
END:VEVENT
BEGIN:VEVENT
DTSTART;TZID=America/New_York:20260129T170000
DTEND;TZID=America/New_York:20260129T190000
DTSTAMP:20260423T095957
CREATED:20250827T122359Z
LAST-MODIFIED:20250827T135702Z
UID:10000019-1769706000-1769713200@thegrandoaks.com
SUMMARY:Trip the Light Supper Club Thu\, Jan 29\, 2026
DESCRIPTION:Trip the Light Supper Club\nThu\, Jan 29\, 2026 @ 5:00PM \nGrand Oaks Resort\, 3000 Marion County Rd.\, Weirsdale\, FL \n\n\nStep into a world of romance\, rhythm\, and refined charm at Trip the Light Supper Club—a one-of-a-kind evening designed especially for couples. Enjoy a world class dining\, live entertainment that stirs the soul\, and a dance floor made for making memories. Whether you’re celebrating an anniversary\, rekindling romance\, or simply stepping out for something special\, this is the ultimate date night experience. \n\n$78 VIP (first two rows)\, $70 General Admission \nPurchase Tickets at Ticketor.com
URL:https://thegrandoaks.com/event/trip-the-light-supper-club-thu-jan-29-2026/
LOCATION:Grand Oaks Resort\, 3000 Marion County Road\, Weirsdale\, FL\, 32195\, United States
CATEGORIES:Entertainment,Ticketed
ATTACH;FMTTYPE=image/jpeg:https://thegrandoaks.com/wp-content/uploads/2025/08/Untitled-2025-08-27T095436.474.jpeg
END:VEVENT
END:VCALENDAR