BEGIN:VCALENDAR
VERSION:2.0
PRODID:-//The Grand Oaks Resort - ECPv6.15.17.1//NONSGML v1.0//EN
CALSCALE:GREGORIAN
METHOD:PUBLISH
X-WR-CALNAME:The Grand Oaks Resort
X-ORIGINAL-URL:https://thegrandoaks.com
X-WR-CALDESC:Events for The Grand Oaks Resort
REFRESH-INTERVAL;VALUE=DURATION:PT1H
X-Robots-Tag:noindex
X-PUBLISHED-TTL:PT1H
BEGIN:VTIMEZONE
TZID:America/New_York
BEGIN:DAYLIGHT
TZOFFSETFROM:-0500
TZOFFSETTO:-0400
TZNAME:EDT
DTSTART:20250309T070000
END:DAYLIGHT
BEGIN:STANDARD
TZOFFSETFROM:-0400
TZOFFSETTO:-0500
TZNAME:EST
DTSTART:20251102T060000
END:STANDARD
BEGIN:DAYLIGHT
TZOFFSETFROM:-0500
TZOFFSETTO:-0400
TZNAME:EDT
DTSTART:20260308T070000
END:DAYLIGHT
BEGIN:STANDARD
TZOFFSETFROM:-0400
TZOFFSETTO:-0500
TZNAME:EST
DTSTART:20261101T060000
END:STANDARD
BEGIN:DAYLIGHT
TZOFFSETFROM:-0500
TZOFFSETTO:-0400
TZNAME:EDT
DTSTART:20270314T070000
END:DAYLIGHT
BEGIN:STANDARD
TZOFFSETFROM:-0400
TZOFFSETTO:-0500
TZNAME:EST
DTSTART:20271107T060000
END:STANDARD
BEGIN:DAYLIGHT
TZOFFSETFROM:-0500
TZOFFSETTO:-0400
TZNAME:EDT
DTSTART:20280312T070000
END:DAYLIGHT
BEGIN:STANDARD
TZOFFSETFROM:-0400
TZOFFSETTO:-0500
TZNAME:EST
DTSTART:20281105T060000
END:STANDARD
BEGIN:DAYLIGHT
TZOFFSETFROM:-0500
TZOFFSETTO:-0400
TZNAME:EDT
DTSTART:20290311T070000
END:DAYLIGHT
BEGIN:STANDARD
TZOFFSETFROM:-0400
TZOFFSETTO:-0500
TZNAME:EST
DTSTART:20291104T060000
END:STANDARD
END:VTIMEZONE
BEGIN:VEVENT
DTSTART;TZID=America/New_York:20260520T163000
DTEND;TZID=America/New_York:20260520T180000
DTSTAMP:20260422T175908
CREATED:20260305T211655Z
LAST-MODIFIED:20260305T211655Z
UID:10000161-1779294600-1779300000@thegrandoaks.com
SUMMARY:Stellar Nights Cabaret at Grand Oaks\, First and Third Wednesday of Every Month\, 4:30PM
DESCRIPTION:  \nShow and Ticket Info
URL:https://thegrandoaks.com/event/stellar-nights-cabaret-at-grand-oaks-first-and-third-wednesday-of-every-month-430pm/2026-05-20/
LOCATION:Grand Oaks Resort\, 3000 Marion County Road\, Weirsdale\, FL\, 32195\, United States
CATEGORIES:Entertainment,Ticketed
ATTACH;FMTTYPE=image/jpeg:https://thegrandoaks.com/wp-content/uploads/2026/03/Untitled-1-46.jpeg
END:VEVENT
BEGIN:VEVENT
DTSTART;TZID=America/New_York:20260617T163000
DTEND;TZID=America/New_York:20260617T180000
DTSTAMP:20260422T175908
CREATED:20260305T211655Z
LAST-MODIFIED:20260305T211655Z
UID:10000162-1781713800-1781719200@thegrandoaks.com
SUMMARY:Stellar Nights Cabaret at Grand Oaks\, First and Third Wednesday of Every Month\, 4:30PM
DESCRIPTION:  \nShow and Ticket Info
URL:https://thegrandoaks.com/event/stellar-nights-cabaret-at-grand-oaks-first-and-third-wednesday-of-every-month-430pm/2026-06-17/
LOCATION:Grand Oaks Resort\, 3000 Marion County Road\, Weirsdale\, FL\, 32195\, United States
CATEGORIES:Entertainment,Ticketed
ATTACH;FMTTYPE=image/jpeg:https://thegrandoaks.com/wp-content/uploads/2026/03/Untitled-1-46.jpeg
END:VEVENT
BEGIN:VEVENT
DTSTART;TZID=America/New_York:20260715T163000
DTEND;TZID=America/New_York:20260715T180000
DTSTAMP:20260422T175908
CREATED:20260305T211655Z
LAST-MODIFIED:20260305T211655Z
UID:10000163-1784133000-1784138400@thegrandoaks.com
SUMMARY:Stellar Nights Cabaret at Grand Oaks\, First and Third Wednesday of Every Month\, 4:30PM
DESCRIPTION:  \nShow and Ticket Info
URL:https://thegrandoaks.com/event/stellar-nights-cabaret-at-grand-oaks-first-and-third-wednesday-of-every-month-430pm/2026-07-15/
LOCATION:Grand Oaks Resort\, 3000 Marion County Road\, Weirsdale\, FL\, 32195\, United States
CATEGORIES:Entertainment,Ticketed
ATTACH;FMTTYPE=image/jpeg:https://thegrandoaks.com/wp-content/uploads/2026/03/Untitled-1-46.jpeg
END:VEVENT
BEGIN:VEVENT
DTSTART;TZID=America/New_York:20260819T163000
DTEND;TZID=America/New_York:20260819T180000
DTSTAMP:20260422T175908
CREATED:20260305T211655Z
LAST-MODIFIED:20260305T211655Z
UID:10000164-1787157000-1787162400@thegrandoaks.com
SUMMARY:Stellar Nights Cabaret at Grand Oaks\, First and Third Wednesday of Every Month\, 4:30PM
DESCRIPTION:  \nShow and Ticket Info
URL:https://thegrandoaks.com/event/stellar-nights-cabaret-at-grand-oaks-first-and-third-wednesday-of-every-month-430pm/2026-08-19/
LOCATION:Grand Oaks Resort\, 3000 Marion County Road\, Weirsdale\, FL\, 32195\, United States
CATEGORIES:Entertainment,Ticketed
ATTACH;FMTTYPE=image/jpeg:https://thegrandoaks.com/wp-content/uploads/2026/03/Untitled-1-46.jpeg
END:VEVENT
BEGIN:VEVENT
DTSTART;TZID=America/New_York:20260916T163000
DTEND;TZID=America/New_York:20260916T180000
DTSTAMP:20260422T175908
CREATED:20260305T211655Z
LAST-MODIFIED:20260305T211655Z
UID:10000165-1789576200-1789581600@thegrandoaks.com
SUMMARY:Stellar Nights Cabaret at Grand Oaks\, First and Third Wednesday of Every Month\, 4:30PM
DESCRIPTION:  \nShow and Ticket Info
URL:https://thegrandoaks.com/event/stellar-nights-cabaret-at-grand-oaks-first-and-third-wednesday-of-every-month-430pm/2026-09-16/
LOCATION:Grand Oaks Resort\, 3000 Marion County Road\, Weirsdale\, FL\, 32195\, United States
CATEGORIES:Entertainment,Ticketed
ATTACH;FMTTYPE=image/jpeg:https://thegrandoaks.com/wp-content/uploads/2026/03/Untitled-1-46.jpeg
END:VEVENT
BEGIN:VEVENT
DTSTART;TZID=America/New_York:20261021T163000
DTEND;TZID=America/New_York:20261021T180000
DTSTAMP:20260422T175908
CREATED:20260305T211655Z
LAST-MODIFIED:20260305T211655Z
UID:10000166-1792600200-1792605600@thegrandoaks.com
SUMMARY:Stellar Nights Cabaret at Grand Oaks\, First and Third Wednesday of Every Month\, 4:30PM
DESCRIPTION:  \nShow and Ticket Info
URL:https://thegrandoaks.com/event/stellar-nights-cabaret-at-grand-oaks-first-and-third-wednesday-of-every-month-430pm/2026-10-21/
LOCATION:Grand Oaks Resort\, 3000 Marion County Road\, Weirsdale\, FL\, 32195\, United States
CATEGORIES:Entertainment,Ticketed
ATTACH;FMTTYPE=image/jpeg:https://thegrandoaks.com/wp-content/uploads/2026/03/Untitled-1-46.jpeg
END:VEVENT
BEGIN:VEVENT
DTSTART;TZID=America/New_York:20261118T163000
DTEND;TZID=America/New_York:20261118T180000
DTSTAMP:20260422T175908
CREATED:20260305T211655Z
LAST-MODIFIED:20260305T211655Z
UID:10000167-1795019400-1795024800@thegrandoaks.com
SUMMARY:Stellar Nights Cabaret at Grand Oaks\, First and Third Wednesday of Every Month\, 4:30PM
DESCRIPTION:  \nShow and Ticket Info
URL:https://thegrandoaks.com/event/stellar-nights-cabaret-at-grand-oaks-first-and-third-wednesday-of-every-month-430pm/2026-11-18/
LOCATION:Grand Oaks Resort\, 3000 Marion County Road\, Weirsdale\, FL\, 32195\, United States
CATEGORIES:Entertainment,Ticketed
ATTACH;FMTTYPE=image/jpeg:https://thegrandoaks.com/wp-content/uploads/2026/03/Untitled-1-46.jpeg
END:VEVENT
BEGIN:VEVENT
DTSTART;TZID=America/New_York:20261216T163000
DTEND;TZID=America/New_York:20261216T180000
DTSTAMP:20260422T175908
CREATED:20260305T211655Z
LAST-MODIFIED:20260305T211655Z
UID:10000168-1797438600-1797444000@thegrandoaks.com
SUMMARY:Stellar Nights Cabaret at Grand Oaks\, First and Third Wednesday of Every Month\, 4:30PM
DESCRIPTION:  \nShow and Ticket Info
URL:https://thegrandoaks.com/event/stellar-nights-cabaret-at-grand-oaks-first-and-third-wednesday-of-every-month-430pm/2026-12-16/
LOCATION:Grand Oaks Resort\, 3000 Marion County Road\, Weirsdale\, FL\, 32195\, United States
CATEGORIES:Entertainment,Ticketed
ATTACH;FMTTYPE=image/jpeg:https://thegrandoaks.com/wp-content/uploads/2026/03/Untitled-1-46.jpeg
END:VEVENT
BEGIN:VEVENT
DTSTART;TZID=America/New_York:20270120T163000
DTEND;TZID=America/New_York:20270120T180000
DTSTAMP:20260422T175908
CREATED:20260305T211655Z
LAST-MODIFIED:20260305T211655Z
UID:10000169-1800462600-1800468000@thegrandoaks.com
SUMMARY:Stellar Nights Cabaret at Grand Oaks\, First and Third Wednesday of Every Month\, 4:30PM
DESCRIPTION:  \nShow and Ticket Info
URL:https://thegrandoaks.com/event/stellar-nights-cabaret-at-grand-oaks-first-and-third-wednesday-of-every-month-430pm/2027-01-20/
LOCATION:Grand Oaks Resort\, 3000 Marion County Road\, Weirsdale\, FL\, 32195\, United States
CATEGORIES:Entertainment,Ticketed
ATTACH;FMTTYPE=image/jpeg:https://thegrandoaks.com/wp-content/uploads/2026/03/Untitled-1-46.jpeg
END:VEVENT
BEGIN:VEVENT
DTSTART;TZID=America/New_York:20270217T163000
DTEND;TZID=America/New_York:20270217T180000
DTSTAMP:20260422T175908
CREATED:20260305T211655Z
LAST-MODIFIED:20260305T211655Z
UID:10000170-1802881800-1802887200@thegrandoaks.com
SUMMARY:Stellar Nights Cabaret at Grand Oaks\, First and Third Wednesday of Every Month\, 4:30PM
DESCRIPTION:  \nShow and Ticket Info
URL:https://thegrandoaks.com/event/stellar-nights-cabaret-at-grand-oaks-first-and-third-wednesday-of-every-month-430pm/2027-02-17/
LOCATION:Grand Oaks Resort\, 3000 Marion County Road\, Weirsdale\, FL\, 32195\, United States
CATEGORIES:Entertainment,Ticketed
ATTACH;FMTTYPE=image/jpeg:https://thegrandoaks.com/wp-content/uploads/2026/03/Untitled-1-46.jpeg
END:VEVENT
BEGIN:VEVENT
DTSTART;TZID=America/New_York:20270317T163000
DTEND;TZID=America/New_York:20270317T180000
DTSTAMP:20260422T175908
CREATED:20260305T211655Z
LAST-MODIFIED:20260305T211655Z
UID:10000171-1805301000-1805306400@thegrandoaks.com
SUMMARY:Stellar Nights Cabaret at Grand Oaks\, First and Third Wednesday of Every Month\, 4:30PM
DESCRIPTION:  \nShow and Ticket Info
URL:https://thegrandoaks.com/event/stellar-nights-cabaret-at-grand-oaks-first-and-third-wednesday-of-every-month-430pm/2027-03-17/
LOCATION:Grand Oaks Resort\, 3000 Marion County Road\, Weirsdale\, FL\, 32195\, United States
CATEGORIES:Entertainment,Ticketed
ATTACH;FMTTYPE=image/jpeg:https://thegrandoaks.com/wp-content/uploads/2026/03/Untitled-1-46.jpeg
END:VEVENT
BEGIN:VEVENT
DTSTART;TZID=America/New_York:20270421T163000
DTEND;TZID=America/New_York:20270421T180000
DTSTAMP:20260422T175908
CREATED:20260305T211655Z
LAST-MODIFIED:20260305T211655Z
UID:10000172-1808325000-1808330400@thegrandoaks.com
SUMMARY:Stellar Nights Cabaret at Grand Oaks\, First and Third Wednesday of Every Month\, 4:30PM
DESCRIPTION:  \nShow and Ticket Info
URL:https://thegrandoaks.com/event/stellar-nights-cabaret-at-grand-oaks-first-and-third-wednesday-of-every-month-430pm/2027-04-21/
LOCATION:Grand Oaks Resort\, 3000 Marion County Road\, Weirsdale\, FL\, 32195\, United States
CATEGORIES:Entertainment,Ticketed
ATTACH;FMTTYPE=image/jpeg:https://thegrandoaks.com/wp-content/uploads/2026/03/Untitled-1-46.jpeg
END:VEVENT
BEGIN:VEVENT
DTSTART;TZID=America/New_York:20270519T163000
DTEND;TZID=America/New_York:20270519T180000
DTSTAMP:20260422T175908
CREATED:20260305T211655Z
LAST-MODIFIED:20260305T211655Z
UID:10000173-1810744200-1810749600@thegrandoaks.com
SUMMARY:Stellar Nights Cabaret at Grand Oaks\, First and Third Wednesday of Every Month\, 4:30PM
DESCRIPTION:  \nShow and Ticket Info
URL:https://thegrandoaks.com/event/stellar-nights-cabaret-at-grand-oaks-first-and-third-wednesday-of-every-month-430pm/2027-05-19/
LOCATION:Grand Oaks Resort\, 3000 Marion County Road\, Weirsdale\, FL\, 32195\, United States
CATEGORIES:Entertainment,Ticketed
ATTACH;FMTTYPE=image/jpeg:https://thegrandoaks.com/wp-content/uploads/2026/03/Untitled-1-46.jpeg
END:VEVENT
BEGIN:VEVENT
DTSTART;TZID=America/New_York:20270616T163000
DTEND;TZID=America/New_York:20270616T180000
DTSTAMP:20260422T175908
CREATED:20260305T211655Z
LAST-MODIFIED:20260305T211655Z
UID:10000174-1813163400-1813168800@thegrandoaks.com
SUMMARY:Stellar Nights Cabaret at Grand Oaks\, First and Third Wednesday of Every Month\, 4:30PM
DESCRIPTION:  \nShow and Ticket Info
URL:https://thegrandoaks.com/event/stellar-nights-cabaret-at-grand-oaks-first-and-third-wednesday-of-every-month-430pm/2027-06-16/
LOCATION:Grand Oaks Resort\, 3000 Marion County Road\, Weirsdale\, FL\, 32195\, United States
CATEGORIES:Entertainment,Ticketed
ATTACH;FMTTYPE=image/jpeg:https://thegrandoaks.com/wp-content/uploads/2026/03/Untitled-1-46.jpeg
END:VEVENT
BEGIN:VEVENT
DTSTART;TZID=America/New_York:20270721T163000
DTEND;TZID=America/New_York:20270721T180000
DTSTAMP:20260422T175908
CREATED:20260305T211655Z
LAST-MODIFIED:20260305T211655Z
UID:10000175-1816187400-1816192800@thegrandoaks.com
SUMMARY:Stellar Nights Cabaret at Grand Oaks\, First and Third Wednesday of Every Month\, 4:30PM
DESCRIPTION:  \nShow and Ticket Info
URL:https://thegrandoaks.com/event/stellar-nights-cabaret-at-grand-oaks-first-and-third-wednesday-of-every-month-430pm/2027-07-21/
LOCATION:Grand Oaks Resort\, 3000 Marion County Road\, Weirsdale\, FL\, 32195\, United States
CATEGORIES:Entertainment,Ticketed
ATTACH;FMTTYPE=image/jpeg:https://thegrandoaks.com/wp-content/uploads/2026/03/Untitled-1-46.jpeg
END:VEVENT
BEGIN:VEVENT
DTSTART;TZID=America/New_York:20270818T163000
DTEND;TZID=America/New_York:20270818T180000
DTSTAMP:20260422T175908
CREATED:20260305T211655Z
LAST-MODIFIED:20260305T211655Z
UID:10000176-1818606600-1818612000@thegrandoaks.com
SUMMARY:Stellar Nights Cabaret at Grand Oaks\, First and Third Wednesday of Every Month\, 4:30PM
DESCRIPTION:  \nShow and Ticket Info
URL:https://thegrandoaks.com/event/stellar-nights-cabaret-at-grand-oaks-first-and-third-wednesday-of-every-month-430pm/2027-08-18/
LOCATION:Grand Oaks Resort\, 3000 Marion County Road\, Weirsdale\, FL\, 32195\, United States
CATEGORIES:Entertainment,Ticketed
ATTACH;FMTTYPE=image/jpeg:https://thegrandoaks.com/wp-content/uploads/2026/03/Untitled-1-46.jpeg
END:VEVENT
BEGIN:VEVENT
DTSTART;TZID=America/New_York:20270915T163000
DTEND;TZID=America/New_York:20270915T180000
DTSTAMP:20260422T175908
CREATED:20260305T211655Z
LAST-MODIFIED:20260305T211655Z
UID:10000177-1821025800-1821031200@thegrandoaks.com
SUMMARY:Stellar Nights Cabaret at Grand Oaks\, First and Third Wednesday of Every Month\, 4:30PM
DESCRIPTION:  \nShow and Ticket Info
URL:https://thegrandoaks.com/event/stellar-nights-cabaret-at-grand-oaks-first-and-third-wednesday-of-every-month-430pm/2027-09-15/
LOCATION:Grand Oaks Resort\, 3000 Marion County Road\, Weirsdale\, FL\, 32195\, United States
CATEGORIES:Entertainment,Ticketed
ATTACH;FMTTYPE=image/jpeg:https://thegrandoaks.com/wp-content/uploads/2026/03/Untitled-1-46.jpeg
END:VEVENT
BEGIN:VEVENT
DTSTART;TZID=America/New_York:20271020T163000
DTEND;TZID=America/New_York:20271020T180000
DTSTAMP:20260422T175908
CREATED:20260305T211655Z
LAST-MODIFIED:20260305T211655Z
UID:10000178-1824049800-1824055200@thegrandoaks.com
SUMMARY:Stellar Nights Cabaret at Grand Oaks\, First and Third Wednesday of Every Month\, 4:30PM
DESCRIPTION:  \nShow and Ticket Info
URL:https://thegrandoaks.com/event/stellar-nights-cabaret-at-grand-oaks-first-and-third-wednesday-of-every-month-430pm/2027-10-20/
LOCATION:Grand Oaks Resort\, 3000 Marion County Road\, Weirsdale\, FL\, 32195\, United States
CATEGORIES:Entertainment,Ticketed
ATTACH;FMTTYPE=image/jpeg:https://thegrandoaks.com/wp-content/uploads/2026/03/Untitled-1-46.jpeg
END:VEVENT
BEGIN:VEVENT
DTSTART;TZID=America/New_York:20271117T163000
DTEND;TZID=America/New_York:20271117T180000
DTSTAMP:20260422T175908
CREATED:20260305T211655Z
LAST-MODIFIED:20260305T211655Z
UID:10000179-1826469000-1826474400@thegrandoaks.com
SUMMARY:Stellar Nights Cabaret at Grand Oaks\, First and Third Wednesday of Every Month\, 4:30PM
DESCRIPTION:  \nShow and Ticket Info
URL:https://thegrandoaks.com/event/stellar-nights-cabaret-at-grand-oaks-first-and-third-wednesday-of-every-month-430pm/2027-11-17/
LOCATION:Grand Oaks Resort\, 3000 Marion County Road\, Weirsdale\, FL\, 32195\, United States
CATEGORIES:Entertainment,Ticketed
ATTACH;FMTTYPE=image/jpeg:https://thegrandoaks.com/wp-content/uploads/2026/03/Untitled-1-46.jpeg
END:VEVENT
BEGIN:VEVENT
DTSTART;TZID=America/New_York:20271215T163000
DTEND;TZID=America/New_York:20271215T180000
DTSTAMP:20260422T175908
CREATED:20260305T211655Z
LAST-MODIFIED:20260305T211655Z
UID:10000180-1828888200-1828893600@thegrandoaks.com
SUMMARY:Stellar Nights Cabaret at Grand Oaks\, First and Third Wednesday of Every Month\, 4:30PM
DESCRIPTION:  \nShow and Ticket Info
URL:https://thegrandoaks.com/event/stellar-nights-cabaret-at-grand-oaks-first-and-third-wednesday-of-every-month-430pm/2027-12-15/
LOCATION:Grand Oaks Resort\, 3000 Marion County Road\, Weirsdale\, FL\, 32195\, United States
CATEGORIES:Entertainment,Ticketed
ATTACH;FMTTYPE=image/jpeg:https://thegrandoaks.com/wp-content/uploads/2026/03/Untitled-1-46.jpeg
END:VEVENT
BEGIN:VEVENT
DTSTART;TZID=America/New_York:20280119T163000
DTEND;TZID=America/New_York:20280119T180000
DTSTAMP:20260422T175908
CREATED:20260305T211655Z
LAST-MODIFIED:20260305T211655Z
UID:10000181-1831912200-1831917600@thegrandoaks.com
SUMMARY:Stellar Nights Cabaret at Grand Oaks\, First and Third Wednesday of Every Month\, 4:30PM
DESCRIPTION:  \nShow and Ticket Info
URL:https://thegrandoaks.com/event/stellar-nights-cabaret-at-grand-oaks-first-and-third-wednesday-of-every-month-430pm/2028-01-19/
LOCATION:Grand Oaks Resort\, 3000 Marion County Road\, Weirsdale\, FL\, 32195\, United States
CATEGORIES:Entertainment,Ticketed
ATTACH;FMTTYPE=image/jpeg:https://thegrandoaks.com/wp-content/uploads/2026/03/Untitled-1-46.jpeg
END:VEVENT
BEGIN:VEVENT
DTSTART;TZID=America/New_York:20280216T163000
DTEND;TZID=America/New_York:20280216T180000
DTSTAMP:20260422T175908
CREATED:20260305T211655Z
LAST-MODIFIED:20260305T211655Z
UID:10000182-1834331400-1834336800@thegrandoaks.com
SUMMARY:Stellar Nights Cabaret at Grand Oaks\, First and Third Wednesday of Every Month\, 4:30PM
DESCRIPTION:  \nShow and Ticket Info
URL:https://thegrandoaks.com/event/stellar-nights-cabaret-at-grand-oaks-first-and-third-wednesday-of-every-month-430pm/2028-02-16/
LOCATION:Grand Oaks Resort\, 3000 Marion County Road\, Weirsdale\, FL\, 32195\, United States
CATEGORIES:Entertainment,Ticketed
ATTACH;FMTTYPE=image/jpeg:https://thegrandoaks.com/wp-content/uploads/2026/03/Untitled-1-46.jpeg
END:VEVENT
BEGIN:VEVENT
DTSTART;TZID=America/New_York:20280315T163000
DTEND;TZID=America/New_York:20280315T180000
DTSTAMP:20260422T175908
CREATED:20260305T211655Z
LAST-MODIFIED:20260305T211655Z
UID:10000183-1836750600-1836756000@thegrandoaks.com
SUMMARY:Stellar Nights Cabaret at Grand Oaks\, First and Third Wednesday of Every Month\, 4:30PM
DESCRIPTION:  \nShow and Ticket Info
URL:https://thegrandoaks.com/event/stellar-nights-cabaret-at-grand-oaks-first-and-third-wednesday-of-every-month-430pm/2028-03-15/
LOCATION:Grand Oaks Resort\, 3000 Marion County Road\, Weirsdale\, FL\, 32195\, United States
CATEGORIES:Entertainment,Ticketed
ATTACH;FMTTYPE=image/jpeg:https://thegrandoaks.com/wp-content/uploads/2026/03/Untitled-1-46.jpeg
END:VEVENT
BEGIN:VEVENT
DTSTART;TZID=America/New_York:20280419T163000
DTEND;TZID=America/New_York:20280419T180000
DTSTAMP:20260422T175908
CREATED:20260305T211655Z
LAST-MODIFIED:20260305T211655Z
UID:10000184-1839774600-1839780000@thegrandoaks.com
SUMMARY:Stellar Nights Cabaret at Grand Oaks\, First and Third Wednesday of Every Month\, 4:30PM
DESCRIPTION:  \nShow and Ticket Info
URL:https://thegrandoaks.com/event/stellar-nights-cabaret-at-grand-oaks-first-and-third-wednesday-of-every-month-430pm/2028-04-19/
LOCATION:Grand Oaks Resort\, 3000 Marion County Road\, Weirsdale\, FL\, 32195\, United States
CATEGORIES:Entertainment,Ticketed
ATTACH;FMTTYPE=image/jpeg:https://thegrandoaks.com/wp-content/uploads/2026/03/Untitled-1-46.jpeg
END:VEVENT
BEGIN:VEVENT
DTSTART;TZID=America/New_York:20280517T163000
DTEND;TZID=America/New_York:20280517T180000
DTSTAMP:20260422T175908
CREATED:20260305T211655Z
LAST-MODIFIED:20260305T211655Z
UID:10000185-1842193800-1842199200@thegrandoaks.com
SUMMARY:Stellar Nights Cabaret at Grand Oaks\, First and Third Wednesday of Every Month\, 4:30PM
DESCRIPTION:  \nShow and Ticket Info
URL:https://thegrandoaks.com/event/stellar-nights-cabaret-at-grand-oaks-first-and-third-wednesday-of-every-month-430pm/2028-05-17/
LOCATION:Grand Oaks Resort\, 3000 Marion County Road\, Weirsdale\, FL\, 32195\, United States
CATEGORIES:Entertainment,Ticketed
ATTACH;FMTTYPE=image/jpeg:https://thegrandoaks.com/wp-content/uploads/2026/03/Untitled-1-46.jpeg
END:VEVENT
BEGIN:VEVENT
DTSTART;TZID=America/New_York:20280621T163000
DTEND;TZID=America/New_York:20280621T180000
DTSTAMP:20260422T175908
CREATED:20260305T211655Z
LAST-MODIFIED:20260305T211655Z
UID:10000186-1845217800-1845223200@thegrandoaks.com
SUMMARY:Stellar Nights Cabaret at Grand Oaks\, First and Third Wednesday of Every Month\, 4:30PM
DESCRIPTION:  \nShow and Ticket Info
URL:https://thegrandoaks.com/event/stellar-nights-cabaret-at-grand-oaks-first-and-third-wednesday-of-every-month-430pm/2028-06-21/
LOCATION:Grand Oaks Resort\, 3000 Marion County Road\, Weirsdale\, FL\, 32195\, United States
CATEGORIES:Entertainment,Ticketed
ATTACH;FMTTYPE=image/jpeg:https://thegrandoaks.com/wp-content/uploads/2026/03/Untitled-1-46.jpeg
END:VEVENT
BEGIN:VEVENT
DTSTART;TZID=America/New_York:20280719T163000
DTEND;TZID=America/New_York:20280719T180000
DTSTAMP:20260422T175908
CREATED:20260305T211655Z
LAST-MODIFIED:20260305T211655Z
UID:10000187-1847637000-1847642400@thegrandoaks.com
SUMMARY:Stellar Nights Cabaret at Grand Oaks\, First and Third Wednesday of Every Month\, 4:30PM
DESCRIPTION:  \nShow and Ticket Info
URL:https://thegrandoaks.com/event/stellar-nights-cabaret-at-grand-oaks-first-and-third-wednesday-of-every-month-430pm/2028-07-19/
LOCATION:Grand Oaks Resort\, 3000 Marion County Road\, Weirsdale\, FL\, 32195\, United States
CATEGORIES:Entertainment,Ticketed
ATTACH;FMTTYPE=image/jpeg:https://thegrandoaks.com/wp-content/uploads/2026/03/Untitled-1-46.jpeg
END:VEVENT
BEGIN:VEVENT
DTSTART;TZID=America/New_York:20280816T163000
DTEND;TZID=America/New_York:20280816T180000
DTSTAMP:20260422T175908
CREATED:20260305T211655Z
LAST-MODIFIED:20260305T211655Z
UID:10000188-1850056200-1850061600@thegrandoaks.com
SUMMARY:Stellar Nights Cabaret at Grand Oaks\, First and Third Wednesday of Every Month\, 4:30PM
DESCRIPTION:  \nShow and Ticket Info
URL:https://thegrandoaks.com/event/stellar-nights-cabaret-at-grand-oaks-first-and-third-wednesday-of-every-month-430pm/2028-08-16/
LOCATION:Grand Oaks Resort\, 3000 Marion County Road\, Weirsdale\, FL\, 32195\, United States
CATEGORIES:Entertainment,Ticketed
ATTACH;FMTTYPE=image/jpeg:https://thegrandoaks.com/wp-content/uploads/2026/03/Untitled-1-46.jpeg
END:VEVENT
BEGIN:VEVENT
DTSTART;TZID=America/New_York:20280920T163000
DTEND;TZID=America/New_York:20280920T180000
DTSTAMP:20260422T175908
CREATED:20260305T211655Z
LAST-MODIFIED:20260305T211655Z
UID:10000189-1853080200-1853085600@thegrandoaks.com
SUMMARY:Stellar Nights Cabaret at Grand Oaks\, First and Third Wednesday of Every Month\, 4:30PM
DESCRIPTION:  \nShow and Ticket Info
URL:https://thegrandoaks.com/event/stellar-nights-cabaret-at-grand-oaks-first-and-third-wednesday-of-every-month-430pm/2028-09-20/
LOCATION:Grand Oaks Resort\, 3000 Marion County Road\, Weirsdale\, FL\, 32195\, United States
CATEGORIES:Entertainment,Ticketed
ATTACH;FMTTYPE=image/jpeg:https://thegrandoaks.com/wp-content/uploads/2026/03/Untitled-1-46.jpeg
END:VEVENT
BEGIN:VEVENT
DTSTART;TZID=America/New_York:20281018T163000
DTEND;TZID=America/New_York:20281018T180000
DTSTAMP:20260422T175908
CREATED:20260305T211655Z
LAST-MODIFIED:20260305T211655Z
UID:10000190-1855499400-1855504800@thegrandoaks.com
SUMMARY:Stellar Nights Cabaret at Grand Oaks\, First and Third Wednesday of Every Month\, 4:30PM
DESCRIPTION:  \nShow and Ticket Info
URL:https://thegrandoaks.com/event/stellar-nights-cabaret-at-grand-oaks-first-and-third-wednesday-of-every-month-430pm/2028-10-18/
LOCATION:Grand Oaks Resort\, 3000 Marion County Road\, Weirsdale\, FL\, 32195\, United States
CATEGORIES:Entertainment,Ticketed
ATTACH;FMTTYPE=image/jpeg:https://thegrandoaks.com/wp-content/uploads/2026/03/Untitled-1-46.jpeg
END:VEVENT
END:VCALENDAR