BEGIN:VCALENDAR
VERSION:2.0
PRODID:-//The Grand Oaks Resort - ECPv6.15.17.1//NONSGML v1.0//EN
CALSCALE:GREGORIAN
METHOD:PUBLISH
X-ORIGINAL-URL:https://thegrandoaks.com
X-WR-CALDESC:Events for The Grand Oaks Resort
REFRESH-INTERVAL;VALUE=DURATION:PT1H
X-Robots-Tag:noindex
X-PUBLISHED-TTL:PT1H
BEGIN:VTIMEZONE
TZID:America/New_York
BEGIN:DAYLIGHT
TZOFFSETFROM:-0500
TZOFFSETTO:-0400
TZNAME:EDT
DTSTART:20250309T070000
END:DAYLIGHT
BEGIN:STANDARD
TZOFFSETFROM:-0400
TZOFFSETTO:-0500
TZNAME:EST
DTSTART:20251102T060000
END:STANDARD
BEGIN:DAYLIGHT
TZOFFSETFROM:-0500
TZOFFSETTO:-0400
TZNAME:EDT
DTSTART:20260308T070000
END:DAYLIGHT
BEGIN:STANDARD
TZOFFSETFROM:-0400
TZOFFSETTO:-0500
TZNAME:EST
DTSTART:20261101T060000
END:STANDARD
BEGIN:DAYLIGHT
TZOFFSETFROM:-0500
TZOFFSETTO:-0400
TZNAME:EDT
DTSTART:20270314T070000
END:DAYLIGHT
BEGIN:STANDARD
TZOFFSETFROM:-0400
TZOFFSETTO:-0500
TZNAME:EST
DTSTART:20271107T060000
END:STANDARD
END:VTIMEZONE
BEGIN:VEVENT
DTSTART;VALUE=DATE:20260424
DTEND;VALUE=DATE:20260427
DTSTAMP:20260420T170057
CREATED:20260403T171240Z
LAST-MODIFIED:20260420T204651Z
UID:10000291-1776988800-1777247999@thegrandoaks.com
SUMMARY:Hot Tub & Spa Show\,  April 24-26\, 2026
DESCRIPTION: 𝗧𝗵𝗲 𝗦𝗪𝗜𝗠 𝗦𝗣𝗔 𝗘𝗫𝗣𝗢 𝗶𝘀 𝗛𝗲𝗿𝗲\, 𝗮𝗻𝗱 𝗬𝗼𝘂 𝗖𝗮𝗻’𝘁 𝗠𝗶𝘀𝘀 𝗜𝘁!\n\n\nTransform your relaxation routine with top-tier swim spas and hot tubs!\n\n\nApril 24-26\, 2026\n Grand Oaks Resort\n 3000 Marion County Rd\, Weirsdale\, FL 32195\n\n\nExplore swimming at home with options like saltwater conversion\, heaters or chillers\, and exercise kits at unbeatable prices!\n\n\n Secure your savings and start your relaxation journey now at https://floridahottubexpo.com\n\n\nSave Up To 50% off and save thousands with factory rebates\, this weekend only!
URL:https://thegrandoaks.com/event/hot-tub-spa-show-april-23-26-2026/
LOCATION:Grand Oaks Resort\, 3000 Marion County Road\, Weirsdale\, FL\, 32195\, United States
CATEGORIES:Trade Shows
ATTACH;FMTTYPE=image/jpeg:https://thegrandoaks.com/wp-content/uploads/2026/04/673985504_10232479067739143_5708655379531339002_n.jpeg
END:VEVENT
END:VCALENDAR