BEGIN:VCALENDAR
VERSION:2.0
PRODID:-//The Grand Oaks Resort - ECPv6.15.17.1//NONSGML v1.0//EN
CALSCALE:GREGORIAN
METHOD:PUBLISH
X-ORIGINAL-URL:https://thegrandoaks.com
X-WR-CALDESC:Events for The Grand Oaks Resort
REFRESH-INTERVAL;VALUE=DURATION:PT1H
X-Robots-Tag:noindex
X-PUBLISHED-TTL:PT1H
BEGIN:VTIMEZONE
TZID:America/New_York
BEGIN:DAYLIGHT
TZOFFSETFROM:-0500
TZOFFSETTO:-0400
TZNAME:EDT
DTSTART:20240310T070000
END:DAYLIGHT
BEGIN:STANDARD
TZOFFSETFROM:-0400
TZOFFSETTO:-0500
TZNAME:EST
DTSTART:20241103T060000
END:STANDARD
BEGIN:DAYLIGHT
TZOFFSETFROM:-0500
TZOFFSETTO:-0400
TZNAME:EDT
DTSTART:20250309T070000
END:DAYLIGHT
BEGIN:STANDARD
TZOFFSETFROM:-0400
TZOFFSETTO:-0500
TZNAME:EST
DTSTART:20251102T060000
END:STANDARD
BEGIN:DAYLIGHT
TZOFFSETFROM:-0500
TZOFFSETTO:-0400
TZNAME:EDT
DTSTART:20260308T070000
END:DAYLIGHT
BEGIN:STANDARD
TZOFFSETFROM:-0400
TZOFFSETTO:-0500
TZNAME:EST
DTSTART:20261101T060000
END:STANDARD
END:VTIMEZONE
BEGIN:VEVENT
DTSTART;TZID=America/New_York:20251114T170000
DTEND;TZID=America/New_York:20251114T190000
DTSTAMP:20260420T132733
CREATED:20250912T132214Z
LAST-MODIFIED:20250912T132214Z
UID:10000104-1763139600-1763146800@thegrandoaks.com
SUMMARY:Johnny Rogers: Legends of Country. Friday\, Nov 14
DESCRIPTION:Johnny Rogers: Legends of Country\nFri\, Nov 14\, 5:00PM \nGrand Oaks Resort\, 3000 Marion County Rd.\, Weirsdale\, FL \n\n\nJohnny Rogers’ “Legends of Country Music”  is a tribute to the music of\, Hank Williams\, Johnny Cash\, Conway Twitty\, Ray Price\, Willie Nelson\, Elvis Presley\, George Strait\, George Jones\, Marty Robbins\, Merle Haggard\, Waylon Jennings\, and many more.  Meal included. \n\n$68 VIP (first two rows)\, $60 General Admission. Meal included. \nPurchase Tickets at Ticketor.com
URL:https://thegrandoaks.com/event/johnny-rogers-legends-of-country/
LOCATION:Grand Oaks Resort\, 3000 Marion County Road\, Weirsdale\, FL\, 32195\, United States
CATEGORIES:Entertainment,Ticketed
ATTACH;FMTTYPE=image/jpeg:https://thegrandoaks.com/wp-content/uploads/2025/09/Stellar-Stage-Event.jpeg
END:VEVENT
BEGIN:VEVENT
DTSTART;TZID=America/New_York:20251115T170000
DTEND;TZID=America/New_York:20251115T183000
DTSTAMP:20260420T132733
CREATED:20251104T102618Z
LAST-MODIFIED:20251104T102630Z
UID:10000025-1763226000-1763231400@thegrandoaks.com
SUMMARY:Sat\, Nov 15 Floating Sound Immersive 5:00–6:30 PM\, Clubhouse Pool
DESCRIPTION:Sat\, Nov 15 Floating Sound Immersive 5:00–6:30 PM\, Clubhouse Pool \nTickets & Info
URL:https://thegrandoaks.com/event/sat-nov-15-floating-sound-immersive-500-630-pm-clubhouse-pool/
LOCATION:Grand Oaks Resort\, 3000 Marion County Road\, Weirsdale\, FL\, 32195\, United States
CATEGORIES:Entertainment,Ticketed
ATTACH;FMTTYPE=image/jpeg:https://thegrandoaks.com/wp-content/uploads/2025/11/566213391_1415813707218414_5074547377273473432_n.jpg
ORGANIZER;CN="I Am Luv 2 All%2C LLC":MAILTO:lu@iamluv2all.com
END:VEVENT
BEGIN:VEVENT
DTSTART;TZID=America/New_York:20251120T180000
DTEND;TZID=America/New_York:20251120T200000
DTSTAMP:20260420T132733
CREATED:20250524T015605Z
LAST-MODIFIED:20251020T164216Z
UID:10000003-1763661600-1763668800@thegrandoaks.com
SUMMARY:Murder Mystery\, Shake\, Rattle and Roll (over dead)\, November 20
DESCRIPTION:1950’s The Tri-City Bandstand Dance Off has come to Pleasentville\nHowever\, for one participant the night becomes a real party pooper as it is\ntheir time to put an egg in their shoe and beat it. \nPrice includes 3 course dinner\, salad\, your meal choice and dessert\, Water and unsweet Tea will be on all tables  Soda\, Hot Coffee\, Hot Tea and Alcohol available to purchase. Gratuity NOT included \nPurchase Tickets at Ticketor.com
URL:https://thegrandoaks.com/event/murder-mystery-shake-rattle-and-roll-over-dead-november-20/
LOCATION:The Bistro\, 3000 Marion County Rd\, Weirsdale\, FL\, 32195\, United States
CATEGORIES:Bistro,Ticketed
ATTACH;FMTTYPE=image/jpeg:https://thegrandoaks.com/wp-content/uploads/2025/05/Murder-Mystery-3-scaled.jpeg
END:VEVENT
BEGIN:VEVENT
DTSTART;TZID=America/New_York:20251122T160000
DTEND;TZID=America/New_York:20251122T173000
DTSTAMP:20260420T132733
CREATED:20251104T103000Z
LAST-MODIFIED:20251107T175558Z
UID:10000026-1763827200-1763832600@thegrandoaks.com
SUMMARY:Sat\, Nov 22\, Gong Meditation 4:00–5:30 PM\, The Bridge Room
DESCRIPTION:Sat\, Nov 22\, Gong Meditation 4:00–5:30 PM\, The Bridge Room
URL:https://thegrandoaks.com/event/sat-nov-22-gong-meditation-400-530-pm-the-bridge-room/
LOCATION:Grand Oaks Resort\, 3000 Marion County Road\, Weirsdale\, FL\, 32195\, United States
CATEGORIES:Ticketed
ATTACH;FMTTYPE=image/jpeg:https://thegrandoaks.com/wp-content/uploads/2025/11/Gong4All-flyer.jpg
ORGANIZER;CN="I Am Luv 2 All%2C LLC":MAILTO:lu@iamluv2all.com
END:VEVENT
BEGIN:VEVENT
DTSTART;VALUE=DATE:20251129
DTEND;VALUE=DATE:20251130
DTSTAMP:20260420T132733
CREATED:20251009T100900Z
LAST-MODIFIED:20251009T162229Z
UID:10000108-1764374400-1764460799@thegrandoaks.com
SUMMARY:Mark Raisch's Buble' and Beyond\, Free Concert\, November 29\, 1PM & 4PM
DESCRIPTION:STOP! PLEASE READ THOROUGHLY! Below are R.S.V.P. Reservation Forms for each concert time – 1 p.m. and 4 p.m.\, on Saturday\, Nov. 29. Once you fill out the form and hit SUBMIT\, a confirmation will pop up on your screen. That is the only confirmation you will receive so be sure to download and print it for reference. Remember\, only 2 email adresses allowed per form. If you need assistance for any reason\, call or email Jim at jimbellacera1@gmail.com or 916-439-3600. \nR.S.V.P. 1 p.m. Show \nhttps://docs.google.com/forms/d/e/1FAIpQLSc5UGT7qWpuOm-B8UuXASEEUFEdPk8NNNR_H6aByR8s9DhnXA/viewform?usp=header \nR.S.V.P. 4 P.M. Show \nhttps://docs.google.com/forms/d/e/1FAIpQLSf641a0hrkUFLyp0buNIr_dYenQK7uOUHOHf5BdVzUtPha3VA/viewform?usp=header
URL:https://thegrandoaks.com/event/mark-raischs-buble-and-beyond-free-concert-november-29-1pm-4pm/
LOCATION:Grand Oaks Resort\, 3000 Marion County Road\, Weirsdale\, FL\, 32195\, United States
CATEGORIES:Entertainment
ATTACH;FMTTYPE=image/jpeg:https://thegrandoaks.com/wp-content/uploads/2025/10/Untitled-2025-10-09T060307.856.jpeg
END:VEVENT
END:VCALENDAR