BEGIN:VCALENDAR
VERSION:2.0
PRODID:-//The Grand Oaks Resort - ECPv6.15.17.1//NONSGML v1.0//EN
CALSCALE:GREGORIAN
METHOD:PUBLISH
X-WR-CALNAME:The Grand Oaks Resort
X-ORIGINAL-URL:https://thegrandoaks.com
X-WR-CALDESC:Events for The Grand Oaks Resort
REFRESH-INTERVAL;VALUE=DURATION:PT1H
X-Robots-Tag:noindex
X-PUBLISHED-TTL:PT1H
BEGIN:VTIMEZONE
TZID:America/New_York
BEGIN:DAYLIGHT
TZOFFSETFROM:-0500
TZOFFSETTO:-0400
TZNAME:EDT
DTSTART:20250309T070000
END:DAYLIGHT
BEGIN:STANDARD
TZOFFSETFROM:-0400
TZOFFSETTO:-0500
TZNAME:EST
DTSTART:20251102T060000
END:STANDARD
BEGIN:DAYLIGHT
TZOFFSETFROM:-0500
TZOFFSETTO:-0400
TZNAME:EDT
DTSTART:20260308T070000
END:DAYLIGHT
BEGIN:STANDARD
TZOFFSETFROM:-0400
TZOFFSETTO:-0500
TZNAME:EST
DTSTART:20261101T060000
END:STANDARD
BEGIN:DAYLIGHT
TZOFFSETFROM:-0500
TZOFFSETTO:-0400
TZNAME:EDT
DTSTART:20270314T070000
END:DAYLIGHT
BEGIN:STANDARD
TZOFFSETFROM:-0400
TZOFFSETTO:-0500
TZNAME:EST
DTSTART:20271107T060000
END:STANDARD
END:VTIMEZONE
BEGIN:VEVENT
DTSTART;TZID=America/New_York:20260122T180000
DTEND;TZID=America/New_York:20260122T200000
DTSTAMP:20260420T151622
CREATED:20251226T110848Z
LAST-MODIFIED:20260109T134125Z
UID:10000116-1769104800-1769112000@thegrandoaks.com
SUMMARY:Murder Mystery Dinner. Bed Down at the Bad Box Saloon\, Jan 22\, 6PM
DESCRIPTION:A 3 Course Dinner and Murder Mystery. You live the story. YOU question the suspects. YOU SOLVE THE CRIME!\n\nPrice includes 3 course dinner\, salad\, your meal choice and dessert\, Water and unsweet Tea will be on all tables Soda\, Hot Coffee\, Hot Tea and Alcohol available to purchase. Gratuity NOT includedCall or text (941)250-5525 or Call (352)750-9500 email thebistro@thegrandoaks.com or purchase online atTicketor.com \n  \n 
URL:https://thegrandoaks.com/event/murder-mystery-show-jan-22/
LOCATION:The Bistro\, 3000 Marion County Rd\, Weirsdale\, FL\, 32195\, United States
CATEGORIES:Bistro,Entertainment,Ticketed
ATTACH;FMTTYPE=image/jpeg:https://thegrandoaks.com/wp-content/uploads/2025/12/Murder-Mystery-3-10-scaled.jpeg
END:VEVENT
END:VCALENDAR